BEGIN:VCALENDAR
VERSION:2.0
PRODID:-//christianrecord.org//NONSGML kigkonsult.se iCalcreator 2.30.10//
CALSCALE:GREGORIAN
METHOD:PUBLISH
UID:c41a3d11-7938-4bb9-899b-0c1a2a00737b
X-WR-CALDESC:
X-WR-RELCALID:98ca9cf46bf9b735a5ce3f8abf67705d
X-WR-TIMEZONE:America/Chicago
BEGIN:VTIMEZONE
TZID:America/Chicago
BEGIN:STANDARD
TZNAME:CST
DTSTART:20271107T020000
TZOFFSETFROM:-0500
TZOFFSETTO:-0600
RDATE:20281105T020000
END:STANDARD
BEGIN:DAYLIGHT
TZNAME:CDT
DTSTART:20270314T020000
TZOFFSETFROM:-0600
TZOFFSETTO:-0500
RDATE:20280312T020000
RDATE:20290311T020000
END:DAYLIGHT
END:VTIMEZONE
BEGIN:VEVENT
UID:831af102-36e6-4547-9a38-da80a3e15466
DTSTAMP:20260424T161643Z
DESCRIPTION:
DTSTART;TZID=America/Chicago:20271104T050000
DTEND;TZID=America/Chicago:20271104T050001
LOCATION:
SUMMARY:Board Meeting (Zoom)
END:VEVENT
END:VCALENDAR
