BEGIN:VCALENDAR
VERSION:2.0
PRODID:-//christianrecord.org//NONSGML kigkonsult.se iCalcreator 2.30.10//
CALSCALE:GREGORIAN
METHOD:PUBLISH
UID:05b9097e-49bf-40de-bc22-7a89ce947ff3
X-WR-CALDESC:
X-WR-RELCALID:974d86265f9ddc2c6efd18aed79ebb6b
X-WR-TIMEZONE:America/Chicago
BEGIN:VTIMEZONE
TZID:America/Chicago
BEGIN:STANDARD
TZNAME:CST
DTSTART:20261101T020000
TZOFFSETFROM:-0500
TZOFFSETTO:-0600
RDATE:20271107T020000
RDATE:20281105T020000
END:STANDARD
BEGIN:DAYLIGHT
TZNAME:CDT
DTSTART:20270314T020000
TZOFFSETFROM:-0600
TZOFFSETTO:-0500
RDATE:20280312T020000
RDATE:20290311T020000
END:DAYLIGHT
END:VTIMEZONE
BEGIN:VEVENT
UID:8e68731a-ccc7-4f2e-9917-54a48c6dda8c
DTSTAMP:20260424T130958Z
DESCRIPTION:
DTSTART;TZID=America/Chicago:20270923T050000
DTEND;TZID=America/Chicago:20270923T050001
LOCATION:
SUMMARY:Board Meeting
END:VEVENT
END:VCALENDAR
