BEGIN:VCALENDAR
VERSION:2.0
PRODID:-//christianrecord.org//NONSGML kigkonsult.se iCalcreator 2.30.10//
CALSCALE:GREGORIAN
METHOD:PUBLISH
UID:27a319c4-301d-4014-9d86-90f157ce5ace
X-WR-CALDESC:
X-WR-RELCALID:e851642d8537c311ceb439ee597e39a0
X-WR-TIMEZONE:America/Chicago
BEGIN:VTIMEZONE
TZID:America/Chicago
BEGIN:STANDARD
TZNAME:CST
DTSTART:20261101T020000
TZOFFSETFROM:-0500
TZOFFSETTO:-0600
RDATE:20271107T020000
END:STANDARD
BEGIN:DAYLIGHT
TZNAME:CDT
DTSTART:20270314T020000
TZOFFSETFROM:-0600
TZOFFSETTO:-0500
RDATE:20280312T020000
END:DAYLIGHT
END:VTIMEZONE
BEGIN:VEVENT
UID:e1064c6b-d9d0-4fe9-a41f-1161ea1f4d4e
DTSTAMP:20260420T035959Z
DESCRIPTION:
DTSTART;TZID=America/Chicago:20270314T050000
DTEND;TZID=America/Chicago:20270314T050001
LOCATION:
SUMMARY:Finance Committee
END:VEVENT
END:VCALENDAR
