BEGIN:VCALENDAR
VERSION:2.0
PRODID:-//christianrecord.org//NONSGML kigkonsult.se iCalcreator 2.30.10//
CALSCALE:GREGORIAN
METHOD:PUBLISH
UID:2c34f005-1f50-4dad-ae74-9fe22056b229
X-WR-CALDESC:
X-WR-RELCALID:8d246be94dfcefee7c387a772825bd49
X-WR-TIMEZONE:America/Chicago
BEGIN:VTIMEZONE
TZID:America/Chicago
BEGIN:STANDARD
TZNAME:CST
DTSTART:20261101T020000
TZOFFSETFROM:-0500
TZOFFSETTO:-0600
RDATE:20271107T020000
END:STANDARD
BEGIN:DAYLIGHT
TZNAME:CDT
DTSTART:20270314T020000
TZOFFSETFROM:-0600
TZOFFSETTO:-0500
RDATE:20280312T020000
END:DAYLIGHT
END:VTIMEZONE
BEGIN:VEVENT
UID:520de860-294d-4b91-b6dc-bcc976330da1
DTSTAMP:20260420T033445Z
DESCRIPTION:
DTSTART;TZID=America/Chicago:20270314T050000
DTEND;TZID=America/Chicago:20270314T050001
LOCATION:
SUMMARY:Board Meeting
END:VEVENT
END:VCALENDAR
