BEGIN:VCALENDAR
VERSION:2.0
PRODID:-//christianrecord.org//NONSGML kigkonsult.se iCalcreator 2.30.10//
CALSCALE:GREGORIAN
METHOD:PUBLISH
UID:f2900ba6-666f-4445-a68f-cb1bcab311c8
X-WR-CALDESC:World Braille Day is annually celebrated on January 4\, the bi
 rthday of Braille inventor\, Louis Braille. The day recognizes the contrib
 utions of Louis Braille in helping blind and visually impaired people to r
 ead and write.
X-WR-RELCALID:83c81d8b63d2ca765d57fcbea5cf1717
X-WR-TIMEZONE:America/Chicago
BEGIN:VTIMEZONE
TZID:America/Chicago
BEGIN:STANDARD
TZNAME:CST
DTSTART:20261101T020000
TZOFFSETFROM:-0500
TZOFFSETTO:-0600
RDATE:20271107T020000
END:STANDARD
BEGIN:DAYLIGHT
TZNAME:CDT
DTSTART:20260308T020000
TZOFFSETFROM:-0600
TZOFFSETTO:-0500
RDATE:20270314T020000
RDATE:20280312T020000
END:DAYLIGHT
END:VTIMEZONE
BEGIN:VEVENT
UID:435a9b8b-65fb-41f9-b89f-942748236c9d
DTSTAMP:20260420T004927Z
DESCRIPTION:World Braille Day is annually celebrated on January 4\, the bir
 thday of Braille inventor\, Louis Braille. The day recognizes the contribu
 tions of Louis Braille in helping blind and visually impaired people to re
 ad and write.
DTSTART;TZID=America/Chicago:20270104T000000
DTEND;TZID=America/Chicago:20270104T235900
LOCATION:
SUMMARY:World Braille Day
END:VEVENT
END:VCALENDAR
