BEGIN:VCALENDAR
VERSION:2.0
PRODID:-//christianrecord.org//NONSGML kigkonsult.se iCalcreator 2.30.10//
CALSCALE:GREGORIAN
METHOD:PUBLISH
UID:481f5192-a0c7-498c-bd3b-1a4c00af7b9a
X-WR-CALDESC:
X-WR-RELCALID:6783e697a98389bcc163b537ab0cc7e8
X-WR-TIMEZONE:America/Chicago
BEGIN:VTIMEZONE
TZID:America/Chicago
BEGIN:STANDARD
TZNAME:CST
DTSTART:20261101T020000
TZOFFSETFROM:-0500
TZOFFSETTO:-0600
RDATE:20271107T020000
END:STANDARD
BEGIN:DAYLIGHT
TZNAME:CDT
DTSTART:20260308T020000
TZOFFSETFROM:-0600
TZOFFSETTO:-0500
RDATE:20270314T020000
RDATE:20280312T020000
END:DAYLIGHT
END:VTIMEZONE
BEGIN:VEVENT
UID:c2060a87-6fc4-4f91-9b4f-e8485f7bc400
DTSTAMP:20260419T211840Z
DESCRIPTION:
DTSTART;TZID=America/Chicago:20261105T050000
DTEND;TZID=America/Chicago:20261105T050001
LOCATION:
SUMMARY:Board Meeting (Zoom)
END:VEVENT
END:VCALENDAR
