BEGIN:VCALENDAR
VERSION:2.0
PRODID:-//christianrecord.org//NONSGML kigkonsult.se iCalcreator 2.30.10//
CALSCALE:GREGORIAN
METHOD:PUBLISH
UID:3fa129ed-9016-4082-b335-dfaca874587b
X-WR-CALDESC:
X-WR-RELCALID:aefafc4a12d9ef14bd1c6de8f3a95038
X-WR-TIMEZONE:America/Chicago
BEGIN:VTIMEZONE
TZID:America/Chicago
BEGIN:STANDARD
TZNAME:CST
DTSTART:20251102T020000
TZOFFSETFROM:-0500
TZOFFSETTO:-0600
RDATE:20261101T020000
RDATE:20271107T020000
END:STANDARD
BEGIN:DAYLIGHT
TZNAME:CDT
DTSTART:20260308T020000
TZOFFSETFROM:-0600
TZOFFSETTO:-0500
RDATE:20270314T020000
RDATE:20280312T020000
END:DAYLIGHT
END:VTIMEZONE
BEGIN:VEVENT
UID:20dee394-eae3-482d-9771-b7e21984c5ff
DTSTAMP:20260419T180820Z
DESCRIPTION:
DTSTART;TZID=America/Chicago:20260921T050000
DTEND;TZID=America/Chicago:20260921T050001
LOCATION:
SUMMARY:Finance Committee
END:VEVENT
END:VCALENDAR
