BEGIN:VCALENDAR
VERSION:2.0
PRODID:-//christianrecord.org//NONSGML kigkonsult.se iCalcreator 2.30.10//
CALSCALE:GREGORIAN
METHOD:PUBLISH
UID:3ed2f2d1-c176-4f60-909f-2ceee736e60a
X-WR-CALDESC:
X-WR-RELCALID:5348e222a81b9f8942478a3b95632347
X-WR-TIMEZONE:America/Chicago
BEGIN:VTIMEZONE
TZID:America/Chicago
BEGIN:STANDARD
TZNAME:CST
DTSTART:20251102T020000
TZOFFSETFROM:-0500
TZOFFSETTO:-0600
RDATE:20261101T020000
RDATE:20271107T020000
END:STANDARD
BEGIN:DAYLIGHT
TZNAME:CDT
DTSTART:20260308T020000
TZOFFSETFROM:-0600
TZOFFSETTO:-0500
RDATE:20270314T020000
RDATE:20280312T020000
END:DAYLIGHT
END:VTIMEZONE
BEGIN:VEVENT
UID:288b7c66-5c3a-482d-b5b2-49fafd87635d
DTSTAMP:20260419T181026Z
DESCRIPTION:
DTSTART;TZID=America/Chicago:20260921T050000
DTEND;TZID=America/Chicago:20260921T050001
LOCATION:
SUMMARY:Board Meeting
END:VEVENT
END:VCALENDAR
