BEGIN:VCALENDAR
VERSION:2.0
PRODID:-//christianrecord.org//NONSGML kigkonsult.se iCalcreator 2.30.10//
CALSCALE:GREGORIAN
METHOD:PUBLISH
UID:dd904978-739a-44d8-91f3-e3b84f3545c1
X-WR-CALDESC:
X-WR-RELCALID:ede94619accb3b8354faa6883d033f92
X-WR-TIMEZONE:America/Chicago
BEGIN:VTIMEZONE
TZID:America/Chicago
BEGIN:STANDARD
TZNAME:CST
DTSTART:20221106T020000
TZOFFSETFROM:-0500
TZOFFSETTO:-0600
RDATE:20231105T020000
RDATE:20241103T020000
END:STANDARD
BEGIN:DAYLIGHT
TZNAME:CDT
DTSTART:20230312T020000
TZOFFSETFROM:-0600
TZOFFSETTO:-0500
RDATE:20240310T020000
RDATE:20250309T020000
END:DAYLIGHT
END:VTIMEZONE
BEGIN:VEVENT
UID:19c5536e-e758-4f44-83e2-4c47e7870090
DTSTAMP:20260419T162337Z
DESCRIPTION:
DTSTART;TZID=America/Chicago:20230918T000000
DTEND;TZID=America/Chicago:20230918T235900
LOCATION:
SUMMARY:Finance Committee
END:VEVENT
END:VCALENDAR
