BEGIN:VCALENDAR
VERSION:2.0
PRODID:-//christianrecord.org//NONSGML kigkonsult.se iCalcreator 2.30.10//
CALSCALE:GREGORIAN
METHOD:PUBLISH
UID:ec74fc5d-2624-49c3-99b8-c9cc0ed7996d
X-WR-CALDESC:
X-WR-RELCALID:ca5e6de8a2976a2e3c90abff523f2b0b
X-WR-TIMEZONE:America/Chicago
BEGIN:VTIMEZONE
TZID:America/Chicago
BEGIN:STANDARD
TZNAME:CST
DTSTART:20221106T020000
TZOFFSETFROM:-0500
TZOFFSETTO:-0600
RDATE:20231105T020000
RDATE:20241103T020000
END:STANDARD
BEGIN:DAYLIGHT
TZNAME:CDT
DTSTART:20230312T020000
TZOFFSETFROM:-0600
TZOFFSETTO:-0500
RDATE:20240310T020000
RDATE:20250309T020000
END:DAYLIGHT
END:VTIMEZONE
BEGIN:VEVENT
UID:122dd05b-1095-41dd-bf2a-a25f6faf550e
DTSTAMP:20260419T160955Z
DESCRIPTION:
DTSTART;TZID=America/Chicago:20230918T000000
DTEND;TZID=America/Chicago:20230918T235900
LOCATION:
SUMMARY:Board Meeting
END:VEVENT
END:VCALENDAR
