BEGIN:VCALENDAR
VERSION:2.0
PRODID:-//christianrecord.org//NONSGML kigkonsult.se iCalcreator 2.30.10//
CALSCALE:GREGORIAN
METHOD:PUBLISH
UID:a9da1de6-c74f-4c6f-a46c-86e7f365924c
X-WR-CALDESC:
X-WR-RELCALID:0a6d4a98ee59acb39468bc472e705414
X-WR-TIMEZONE:America/Chicago
BEGIN:VTIMEZONE
TZID:America/Chicago
BEGIN:STANDARD
TZNAME:CST
DTSTART:20221106T020000
TZOFFSETFROM:-0500
TZOFFSETTO:-0600
RDATE:20231105T020000
END:STANDARD
BEGIN:DAYLIGHT
TZNAME:CDT
DTSTART:20220313T020000
TZOFFSETFROM:-0600
TZOFFSETTO:-0500
RDATE:20230312T020000
RDATE:20240310T020000
END:DAYLIGHT
END:VTIMEZONE
BEGIN:VEVENT
UID:166a6dfc-e489-4360-ba47-c23bf816eea0
DTSTAMP:20260420T015532Z
DESCRIPTION:
DTSTART;TZID=America/Chicago:20230313T083000
DTEND;TZID=America/Chicago:20230313T093000
LOCATION:Mid-America Union Conference Office
SUMMARY:Finance Committee
END:VEVENT
END:VCALENDAR
