BEGIN:VCALENDAR
VERSION:2.0
PRODID:-//christianrecord.org//NONSGML kigkonsult.se iCalcreator 2.30.10//
CALSCALE:GREGORIAN
METHOD:PUBLISH
UID:1228192c-94fc-445d-a092-a5ea1867fe70
X-WR-CALDESC:
X-WR-RELCALID:1ca8191e2c596b2bdb5a18042cb048ec
X-WR-TIMEZONE:America/Chicago
BEGIN:VTIMEZONE
TZID:America/Chicago
BEGIN:STANDARD
TZNAME:CST
DTSTART:20221106T020000
TZOFFSETFROM:-0500
TZOFFSETTO:-0600
RDATE:20231105T020000
END:STANDARD
BEGIN:DAYLIGHT
TZNAME:CDT
DTSTART:20220313T020000
TZOFFSETFROM:-0600
TZOFFSETTO:-0500
RDATE:20230312T020000
RDATE:20240310T020000
END:DAYLIGHT
END:VTIMEZONE
BEGIN:VEVENT
UID:de8d7b2b-7940-4dac-9f0e-7b6e064a2088
DTSTAMP:20260420T014359Z
DESCRIPTION:
DTSTART;TZID=America/Chicago:20230313T093000
DTEND;TZID=America/Chicago:20230313T103000
LOCATION:Mid-America Union Conference Office
SUMMARY:Compensation Committee
END:VEVENT
END:VCALENDAR
