BEGIN:VCALENDAR
VERSION:2.0
PRODID:-//christianrecord.org//NONSGML kigkonsult.se iCalcreator 2.30.10//
CALSCALE:GREGORIAN
METHOD:PUBLISH
UID:6be0067f-a84a-4db3-8e52-2956ff0841aa
X-WR-CALDESC:
X-WR-RELCALID:b4d781df09a21db55d65a463aba8c463
X-WR-TIMEZONE:America/Chicago
BEGIN:VTIMEZONE
TZID:America/Chicago
BEGIN:STANDARD
TZNAME:CST
DTSTART:20221106T020000
TZOFFSETFROM:-0500
TZOFFSETTO:-0600
RDATE:20231105T020000
END:STANDARD
BEGIN:DAYLIGHT
TZNAME:CDT
DTSTART:20220313T020000
TZOFFSETFROM:-0600
TZOFFSETTO:-0500
RDATE:20230312T020000
RDATE:20240310T020000
END:DAYLIGHT
END:VTIMEZONE
BEGIN:VEVENT
UID:9940b498-01cd-4451-b006-9fe274a5914b
DTSTAMP:20260420T015117Z
DESCRIPTION:
DTSTART;TZID=America/Chicago:20230313T130000
DTEND;TZID=America/Chicago:20230313T160000
LOCATION:Mid-America Union Conference Office
SUMMARY:Board Meeting
END:VEVENT
END:VCALENDAR
