BEGIN:VCALENDAR
VERSION:2.0
PRODID:-//christianrecord.org//NONSGML kigkonsult.se iCalcreator 2.30.10//
CALSCALE:GREGORIAN
METHOD:PUBLISH
UID:37509d39-3947-4126-a71d-fd7c8a78cc99
X-WR-CALDESC:
X-WR-RELCALID:767441484713a527315b8d4d328d9573
X-WR-TIMEZONE:America/Chicago
BEGIN:VTIMEZONE
TZID:America/Chicago
BEGIN:STANDARD
TZNAME:CST
DTSTART:20221106T020000
TZOFFSETFROM:-0500
TZOFFSETTO:-0600
RDATE:20231105T020000
END:STANDARD
BEGIN:DAYLIGHT
TZNAME:CDT
DTSTART:20220313T020000
TZOFFSETFROM:-0600
TZOFFSETTO:-0500
RDATE:20230312T020000
RDATE:20240310T020000
END:DAYLIGHT
END:VTIMEZONE
BEGIN:VEVENT
UID:67899922-aaf9-415c-abee-cf30e80ca86b
DTSTAMP:20260420T064628Z
DESCRIPTION:
DTSTART;TZID=America/Chicago:20221226T000000
DTEND;TZID=America/Chicago:20221229T235900
LOCATION:
SUMMARY:CRS Office Holiday
END:VEVENT
END:VCALENDAR
