BEGIN:VCALENDAR
VERSION:2.0
PRODID:-//christianrecord.org//NONSGML kigkonsult.se iCalcreator 2.30.10//
CALSCALE:GREGORIAN
METHOD:PUBLISH
UID:5b3d826a-d58c-4dfe-8217-1fedf0626f01
X-WR-CALDESC:
X-WR-RELCALID:d202613236d487b9bdec17e8e8a470ad
X-WR-TIMEZONE:America/Chicago
BEGIN:VTIMEZONE
TZID:America/Chicago
BEGIN:STANDARD
TZNAME:CST
DTSTART:20221106T020000
TZOFFSETFROM:-0500
TZOFFSETTO:-0600
RDATE:20231105T020000
END:STANDARD
BEGIN:DAYLIGHT
TZNAME:CDT
DTSTART:20220313T020000
TZOFFSETFROM:-0600
TZOFFSETTO:-0500
RDATE:20230312T020000
RDATE:20240310T020000
END:DAYLIGHT
END:VTIMEZONE
BEGIN:VEVENT
UID:e2c862bc-09ce-4ecd-9000-923c21d4113d
DTSTAMP:20260420T082019Z
DESCRIPTION:
DTSTART;TZID=America/Chicago:20221123T000000
DTEND;TZID=America/Chicago:20221124T235900
LOCATION:
SUMMARY:CRS Office Holiday
END:VEVENT
END:VCALENDAR
