BEGIN:VCALENDAR
VERSION:2.0
PRODID:-//christianrecord.org//NONSGML kigkonsult.se iCalcreator 2.30.10//
CALSCALE:GREGORIAN
METHOD:PUBLISH
UID:8e716ef2-6fc1-4cf6-8da6-c55faa028f54
X-WR-CALDESC:
X-WR-RELCALID:797f6e68a02b37cd60b10d0a7c2293ea
X-WR-TIMEZONE:America/Chicago
BEGIN:VTIMEZONE
TZID:America/Chicago
BEGIN:STANDARD
TZNAME:CST
DTSTART:20211107T020000
TZOFFSETFROM:-0500
TZOFFSETTO:-0600
RDATE:20221106T020000
RDATE:20231105T020000
END:STANDARD
BEGIN:DAYLIGHT
TZNAME:CDT
DTSTART:20220313T020000
TZOFFSETFROM:-0600
TZOFFSETTO:-0500
RDATE:20230312T020000
RDATE:20240310T020000
END:DAYLIGHT
END:VTIMEZONE
BEGIN:VEVENT
UID:f1c31996-e9eb-49be-9abd-183635bf8986
DTSTAMP:20260420T111731Z
DESCRIPTION:
DTSTART;TZID=America/Chicago:20220919T000000
DTEND;TZID=America/Chicago:20220919T235900
LOCATION:
SUMMARY:Board Meeting
END:VEVENT
END:VCALENDAR
