BEGIN:VCALENDAR
VERSION:2.0
PRODID:-//christianrecord.org//NONSGML kigkonsult.se iCalcreator 2.30.10//
CALSCALE:GREGORIAN
METHOD:PUBLISH
UID:90de1eed-7532-4ee2-9985-2f01299267e8
X-WR-CALDESC:
X-WR-RELCALID:b50806726d96fa4587833fb14612c282
X-WR-TIMEZONE:America/Chicago
BEGIN:VTIMEZONE
TZID:America/Chicago
BEGIN:STANDARD
TZNAME:CST
DTSTART:20211107T020000
TZOFFSETFROM:-0500
TZOFFSETTO:-0600
RDATE:20221106T020000
RDATE:20231105T020000
END:STANDARD
BEGIN:DAYLIGHT
TZNAME:CDT
DTSTART:20220313T020000
TZOFFSETFROM:-0600
TZOFFSETTO:-0500
RDATE:20230312T020000
RDATE:20240310T020000
END:DAYLIGHT
END:VTIMEZONE
BEGIN:VEVENT
UID:fb69653c-c468-4b55-9991-fc1d2bf85b1b
DTSTAMP:20260420T112220Z
DESCRIPTION:
DTSTART;TZID=America/Chicago:20220918T000000
DTEND;TZID=America/Chicago:20220923T235900
LOCATION:
SUMMARY:Camp Kulaqua
END:VEVENT
END:VCALENDAR
