BEGIN:VCALENDAR
VERSION:2.0
PRODID:-//christianrecord.org//NONSGML kigkonsult.se iCalcreator 2.30.10//
CALSCALE:GREGORIAN
METHOD:PUBLISH
UID:76345451-7fcf-4bec-a83d-797cd21baa31
X-WR-CALDESC:
X-WR-RELCALID:b75285ccb4c0d7b3b3fce925dd81d756
X-WR-TIMEZONE:America/Chicago
BEGIN:VTIMEZONE
TZID:America/Chicago
BEGIN:STANDARD
TZNAME:CST
DTSTART:20211107T020000
TZOFFSETFROM:-0500
TZOFFSETTO:-0600
RDATE:20221106T020000
RDATE:20231105T020000
END:STANDARD
BEGIN:DAYLIGHT
TZNAME:CDT
DTSTART:20220313T020000
TZOFFSETFROM:-0600
TZOFFSETTO:-0500
RDATE:20230312T020000
END:DAYLIGHT
END:VTIMEZONE
BEGIN:VEVENT
UID:d384fc51-9fff-433b-9662-cda5f9e15dc6
DTSTAMP:20260420T124434Z
DESCRIPTION:
DTSTART;TZID=America/Chicago:20220813T000000
DTEND;TZID=America/Chicago:20220813T235900
LOCATION:
SUMMARY:CRS Annual Day of Giving
END:VEVENT
END:VCALENDAR
