BEGIN:VCALENDAR
VERSION:2.0
PRODID:-//christianrecord.org//NONSGML kigkonsult.se iCalcreator 2.30.10//
CALSCALE:GREGORIAN
METHOD:PUBLISH
UID:692e1d64-184b-4918-a45f-e9b769415d2c
X-WR-CALDESC:
X-WR-RELCALID:fa43f82e6f9e42ade362b80c831c7266
X-WR-TIMEZONE:America/Chicago
BEGIN:VTIMEZONE
TZID:America/Chicago
BEGIN:STANDARD
TZNAME:CST
DTSTART:20211107T020000
TZOFFSETFROM:-0500
TZOFFSETTO:-0600
RDATE:20221106T020000
RDATE:20231105T020000
END:STANDARD
BEGIN:DAYLIGHT
TZNAME:CDT
DTSTART:20220313T020000
TZOFFSETFROM:-0600
TZOFFSETTO:-0500
RDATE:20230312T020000
END:DAYLIGHT
END:VTIMEZONE
BEGIN:VEVENT
UID:8701a084-31ce-4853-8ee7-e9566023100e
DTSTAMP:20260420T135439Z
DESCRIPTION:
DTSTART;TZID=America/Chicago:20220703T000000
DTEND;TZID=America/Chicago:20220710T235900
LOCATION:
SUMMARY:Camp Lawroweld
END:VEVENT
END:VCALENDAR
