BEGIN:VCALENDAR
VERSION:2.0
PRODID:-//christianrecord.org//NONSGML kigkonsult.se iCalcreator 2.30.10//
CALSCALE:GREGORIAN
METHOD:PUBLISH
UID:e1ab21fe-ac4a-4a9d-a75c-17b07e016ad5
X-WR-CALDESC:
X-WR-RELCALID:c67edec78a5354ca6672ae33c16410fc
X-WR-TIMEZONE:America/Chicago
BEGIN:VTIMEZONE
TZID:America/Chicago
BEGIN:STANDARD
TZNAME:CST
DTSTART:20211107T020000
TZOFFSETFROM:-0500
TZOFFSETTO:-0600
RDATE:20221106T020000
RDATE:20231105T020000
END:STANDARD
BEGIN:DAYLIGHT
TZNAME:CDT
DTSTART:20220313T020000
TZOFFSETFROM:-0600
TZOFFSETTO:-0500
RDATE:20230312T020000
END:DAYLIGHT
END:VTIMEZONE
BEGIN:VEVENT
UID:a7880467-1ddb-426f-95e1-fa2a7fb2a249
DTSTAMP:20260420T152132Z
DESCRIPTION:
DTSTART;TZID=America/Chicago:20220620T000000
DTEND;TZID=America/Chicago:20220620T235900
LOCATION:
SUMMARY:CRS Office Holiday
END:VEVENT
END:VCALENDAR
