BEGIN:VCALENDAR
VERSION:2.0
PRODID:-//christianrecord.org//NONSGML kigkonsult.se iCalcreator 2.30.10//
CALSCALE:GREGORIAN
METHOD:PUBLISH
UID:936091bc-cf47-468c-a645-06099d0c18a0
X-WR-CALDESC:
X-WR-RELCALID:5a6c7f57357d52d6b3fafc8b4898e6ed
X-WR-TIMEZONE:America/Chicago
BEGIN:VTIMEZONE
TZID:America/Chicago
BEGIN:STANDARD
TZNAME:CST
DTSTART:20211107T020000
TZOFFSETFROM:-0500
TZOFFSETTO:-0600
RDATE:20221106T020000
RDATE:20231105T020000
END:STANDARD
BEGIN:DAYLIGHT
TZNAME:CDT
DTSTART:20220313T020000
TZOFFSETFROM:-0600
TZOFFSETTO:-0500
RDATE:20230312T020000
END:DAYLIGHT
END:VTIMEZONE
BEGIN:VEVENT
UID:827a79e1-e5c4-444c-a4a5-2d27f45303a3
DTSTAMP:20260420T152444Z
DESCRIPTION:
DTSTART;TZID=America/Chicago:20220619T000000
DTEND;TZID=America/Chicago:20220624T235900
LOCATION:
SUMMARY:Wewoka Woods Teen Camp
END:VEVENT
END:VCALENDAR
