BEGIN:VCALENDAR
VERSION:2.0
PRODID:-//christianrecord.org//NONSGML kigkonsult.se iCalcreator 2.30.10//
CALSCALE:GREGORIAN
METHOD:PUBLISH
UID:22d6454f-6839-4a6f-9c45-bd49d7bac4a8
X-WR-CALDESC:
X-WR-RELCALID:872dc6a7c49a69d02df1a75ccb9e873b
X-WR-TIMEZONE:America/Chicago
BEGIN:VTIMEZONE
TZID:America/Chicago
BEGIN:STANDARD
TZNAME:CST
DTSTART:20211107T020000
TZOFFSETFROM:-0500
TZOFFSETTO:-0600
RDATE:20221106T020000
RDATE:20231105T020000
END:STANDARD
BEGIN:DAYLIGHT
TZNAME:CDT
DTSTART:20220313T020000
TZOFFSETFROM:-0600
TZOFFSETTO:-0500
RDATE:20230312T020000
END:DAYLIGHT
END:VTIMEZONE
BEGIN:VEVENT
UID:a3782eeb-6152-4b00-a0d5-13caa63974bc
DTSTAMP:20260420T152758Z
DESCRIPTION:
DTSTART;TZID=America/Chicago:20220612T000000
DTEND;TZID=America/Chicago:20220617T235900
LOCATION:
SUMMARY:Wewoka Woods Junior Camp
END:VEVENT
END:VCALENDAR
