BEGIN:VCALENDAR
VERSION:2.0
PRODID:-//christianrecord.org//NONSGML kigkonsult.se iCalcreator 2.30.10//
CALSCALE:GREGORIAN
METHOD:PUBLISH
UID:928b7341-49d1-43d5-9725-f4a1910d2489
X-WR-CALDESC:
X-WR-RELCALID:687a719873de90bdb934360946754552
X-WR-TIMEZONE:America/Chicago
BEGIN:VTIMEZONE
TZID:America/Chicago
BEGIN:STANDARD
TZNAME:CST
DTSTART:20211107T020000
TZOFFSETFROM:-0500
TZOFFSETTO:-0600
RDATE:20221106T020000
RDATE:20231105T020000
END:STANDARD
BEGIN:DAYLIGHT
TZNAME:CDT
DTSTART:20220313T020000
TZOFFSETFROM:-0600
TZOFFSETTO:-0500
RDATE:20230312T020000
END:DAYLIGHT
END:VTIMEZONE
BEGIN:VEVENT
UID:59e4e541-a9c0-472d-8e2c-fbbcdeee4490
DTSTAMP:20260420T152310Z
DESCRIPTION:
DTSTART;TZID=America/Chicago:20220612T000000
DTEND;TZID=America/Chicago:20220619T235900
LOCATION:
SUMMARY:North Star Camp
END:VEVENT
END:VCALENDAR
