BEGIN:VCALENDAR
VERSION:2.0
PRODID:-//christianrecord.org//NONSGML kigkonsult.se iCalcreator 2.30.10//
CALSCALE:GREGORIAN
METHOD:PUBLISH
UID:402e76f8-9a38-441e-9165-932329b5f914
X-WR-CALDESC:
X-WR-RELCALID:1ed6ff06f72eca380746ab6e942b4d6c
X-WR-TIMEZONE:America/Chicago
BEGIN:VTIMEZONE
TZID:America/Chicago
BEGIN:STANDARD
TZNAME:CST
DTSTART:20211107T020000
TZOFFSETFROM:-0500
TZOFFSETTO:-0600
RDATE:20221106T020000
RDATE:20231105T020000
END:STANDARD
BEGIN:DAYLIGHT
TZNAME:CDT
DTSTART:20220313T020000
TZOFFSETFROM:-0600
TZOFFSETTO:-0500
RDATE:20230312T020000
END:DAYLIGHT
END:VTIMEZONE
BEGIN:VEVENT
UID:365837fe-8a2c-4b03-81bc-3eef13521972
DTSTAMP:20260420T152606Z
DESCRIPTION:
DTSTART;TZID=America/Chicago:20220605T000000
DTEND;TZID=America/Chicago:20220610T235900
LOCATION:
SUMMARY:Wewoka Woods Adventure Camp
END:VEVENT
END:VCALENDAR
