BEGIN:VCALENDAR
VERSION:2.0
PRODID:-//christianrecord.org//NONSGML kigkonsult.se iCalcreator 2.30.10//
CALSCALE:GREGORIAN
METHOD:PUBLISH
UID:8f92e9f0-6f1f-4e99-af63-f7481e8af99b
X-WR-CALDESC:
X-WR-RELCALID:e6ecc1663c091d9b8ed639f45dc94d80
X-WR-TIMEZONE:America/Chicago
BEGIN:VTIMEZONE
TZID:America/Chicago
BEGIN:STANDARD
TZNAME:CST
DTSTART:20211107T020000
TZOFFSETFROM:-0500
TZOFFSETTO:-0600
RDATE:20221106T020000
RDATE:20231105T020000
END:STANDARD
BEGIN:DAYLIGHT
TZNAME:CDT
DTSTART:20220313T020000
TZOFFSETFROM:-0600
TZOFFSETTO:-0500
RDATE:20230312T020000
END:DAYLIGHT
END:VTIMEZONE
BEGIN:VEVENT
UID:fb1c4182-3c41-4319-9176-27b857dae115
DTSTAMP:20260420T165330Z
DESCRIPTION:
DTSTART;TZID=America/Chicago:20220530T000000
DTEND;TZID=America/Chicago:20220530T235900
LOCATION:
SUMMARY:CRS Office Holiday
END:VEVENT
END:VCALENDAR
