BEGIN:VCALENDAR
VERSION:2.0
PRODID:-//christianrecord.org//NONSGML kigkonsult.se iCalcreator 2.30.10//
CALSCALE:GREGORIAN
METHOD:PUBLISH
UID:0b09ac6e-caa2-4775-b688-72c4ccc86a66
X-WR-CALDESC:
X-WR-RELCALID:1faaa80a0bc7f839558db15dcebad4a0
X-WR-TIMEZONE:America/Chicago
BEGIN:VTIMEZONE
TZID:America/Chicago
BEGIN:STANDARD
TZNAME:CST
DTSTART:20211107T020000
TZOFFSETFROM:-0500
TZOFFSETTO:-0600
RDATE:20221106T020000
RDATE:20231105T020000
END:STANDARD
BEGIN:DAYLIGHT
TZNAME:CDT
DTSTART:20220313T020000
TZOFFSETFROM:-0600
TZOFFSETTO:-0500
RDATE:20230312T020000
END:DAYLIGHT
END:VTIMEZONE
BEGIN:VEVENT
UID:1c616e79-096b-434e-a81c-7d2331df77ca
DTSTAMP:20260420T165422Z
DESCRIPTION:
DTSTART;TZID=America/Chicago:20220526T000000
DTEND;TZID=America/Chicago:20220526T235900
LOCATION:
SUMMARY:Give to Lincoln Day
END:VEVENT
END:VCALENDAR
