BEGIN:VCALENDAR
VERSION:2.0
PRODID:-//christianrecord.org//NONSGML kigkonsult.se iCalcreator 2.30.10//
CALSCALE:GREGORIAN
METHOD:PUBLISH
UID:dd83c068-cfe8-448d-9d72-d87d10c43775
X-WR-CALDESC:
X-WR-RELCALID:c5780ddd2676da29d905b396d3a15acb
X-WR-TIMEZONE:America/Chicago
BEGIN:VTIMEZONE
TZID:America/Chicago
BEGIN:STANDARD
TZNAME:CST
DTSTART:20211107T020000
TZOFFSETFROM:-0500
TZOFFSETTO:-0600
RDATE:20221106T020000
END:STANDARD
BEGIN:DAYLIGHT
TZNAME:CDT
DTSTART:20210314T020000
TZOFFSETFROM:-0600
TZOFFSETTO:-0500
RDATE:20220313T020000
RDATE:20230312T020000
END:DAYLIGHT
END:VTIMEZONE
BEGIN:VEVENT
UID:ced4749c-14fd-4efe-a28b-1c7a4bec9d05
DTSTAMP:20260420T201849Z
DESCRIPTION:
DTSTART;TZID=America/Chicago:20220301T000000
DTEND;TZID=America/Chicago:20220301T235900
LOCATION:
SUMMARY:NCBC Camp Registration Opens
END:VEVENT
END:VCALENDAR
