BEGIN:VCALENDAR
VERSION:2.0
PRODID:-//christianrecord.org//NONSGML kigkonsult.se iCalcreator 2.30.10//
CALSCALE:GREGORIAN
METHOD:PUBLISH
UID:7594f1e0-15ac-45b8-8a23-bb82e3abd8f6
X-WR-CALDESC:
X-WR-RELCALID:79b9cba5cc017274de9aae8646fae06c
X-WR-TIMEZONE:America/Chicago
BEGIN:VTIMEZONE
TZID:America/Chicago
BEGIN:STANDARD
TZNAME:CST
DTSTART:20201101T020000
TZOFFSETFROM:-0500
TZOFFSETTO:-0600
RDATE:20211107T020000
RDATE:20221106T020000
END:STANDARD
BEGIN:DAYLIGHT
TZNAME:CDT
DTSTART:20210314T020000
TZOFFSETFROM:-0600
TZOFFSETTO:-0500
RDATE:20220313T020000
RDATE:20230312T020000
END:DAYLIGHT
END:VTIMEZONE
BEGIN:VEVENT
UID:d3caf36c-22dc-4abb-8b92-84dc0f7ebef4
DTSTAMP:20260421T045750Z
DESCRIPTION:
DTSTART;TZID=America/Chicago:20210920T080000
DTEND;TZID=America/Chicago:20210920T110000
LOCATION:
SUMMARY:Finance Committee
END:VEVENT
END:VCALENDAR
