BEGIN:VCALENDAR
VERSION:2.0
PRODID:-//christianrecord.org//NONSGML kigkonsult.se iCalcreator 2.30.10//
CALSCALE:GREGORIAN
METHOD:PUBLISH
UID:f7f3b8fa-85ff-47bb-b1cc-bbb9fb59ce22
X-WR-CALDESC:
X-WR-RELCALID:4016348889bb87f639d545e637141904
X-WR-TIMEZONE:America/Chicago
BEGIN:VTIMEZONE
TZID:America/Chicago
BEGIN:STANDARD
TZNAME:CST
DTSTART:20201101T020000
TZOFFSETFROM:-0500
TZOFFSETTO:-0600
RDATE:20211107T020000
RDATE:20221106T020000
END:STANDARD
BEGIN:DAYLIGHT
TZNAME:CDT
DTSTART:20210314T020000
TZOFFSETFROM:-0600
TZOFFSETTO:-0500
RDATE:20220313T020000
END:DAYLIGHT
END:VTIMEZONE
BEGIN:VEVENT
UID:be6f0c9e-766e-4aa3-921a-ce52c88425cc
DTSTAMP:20260421T075523Z
DESCRIPTION:
DTSTART;TZID=America/Chicago:20210712T080000
DTEND;TZID=America/Chicago:20210712T110000
LOCATION:
SUMMARY:Finance Committee
END:VEVENT
END:VCALENDAR
