BEGIN:VCALENDAR
VERSION:2.0
PRODID:-//christianrecord.org//NONSGML kigkonsult.se iCalcreator 2.30.10//
CALSCALE:GREGORIAN
METHOD:PUBLISH
UID:4a20f431-485c-4df6-a855-3969a926086d
X-WR-CALDESC:
X-WR-RELCALID:bf6135d1519220d3a57b0eeccabd3d2a
X-WR-TIMEZONE:America/Chicago
BEGIN:VTIMEZONE
TZID:America/Chicago
BEGIN:STANDARD
TZNAME:CST
DTSTART:20201101T020000
TZOFFSETFROM:-0500
TZOFFSETTO:-0600
RDATE:20211107T020000
RDATE:20221106T020000
END:STANDARD
BEGIN:DAYLIGHT
TZNAME:CDT
DTSTART:20210314T020000
TZOFFSETFROM:-0600
TZOFFSETTO:-0500
RDATE:20220313T020000
END:DAYLIGHT
END:VTIMEZONE
BEGIN:VEVENT
UID:258a30c5-731e-41b8-b5e5-6a467df63f18
DTSTAMP:20260421T075926Z
DESCRIPTION:
DTSTART;TZID=America/Chicago:20210712T130000
DTEND;TZID=America/Chicago:20210712T170000
LOCATION:
SUMMARY:Board Meeting
END:VEVENT
END:VCALENDAR
