BEGIN:VCALENDAR
VERSION:2.0
PRODID:-//christianrecord.org//NONSGML kigkonsult.se iCalcreator 2.30.10//
CALSCALE:GREGORIAN
METHOD:PUBLISH
UID:ea319e2e-8c89-40b3-a0a6-be51c4c0748c
X-WR-CALDESC:The EYE RUN is an eye health awareness event and fundraiser\, 
 scheduled for Sunday\, October 7\, at Holmes Lake Park in Lincoln\, Nebras
 ka\, and many other locations through virtual runners and walkers.\n\nThe 
 EYE RUN offers three events: One Miler Run/Walk\, 5K Run/Walk\, and 10K Ru
 n. In addition to the run/walk\, the EYE RUN hosts the Healthy Lifestyle E
 xpo\, with booths from sponsors and area agencies that offer supportive se
 rvices to people who are blind.\n\nBusinesses are encouraged to use the EY
 E RUN to enhance corporate wellness programs\, with group pricing for team
 s of 10 or more available by request. For corporate sponsorship or team op
 portunities\, call (402) 488-0981\, Option 3.\n\nRegistration is free for 
 legally blind runners and walkers and their sighted guides. Email info@chr
 istianrecord.org to request your comp code. \n\nProceeds from the EYE RUN 
 provide reading services and confidence-building camping experiences for p
 eople who are blind through Christian Record and National Camps for Blind 
 Children.\n\nRegistration is open through event day.
X-WR-RELCALID:70e8cac4ae66ed302f28dbee17dea9d5
X-WR-TIMEZONE:America/Chicago
BEGIN:VTIMEZONE
TZID:America/Chicago
BEGIN:STANDARD
TZNAME:CST
DTSTART:20171105T020000
TZOFFSETFROM:-0500
TZOFFSETTO:-0600
RDATE:20181104T020000
RDATE:20191103T020000
END:STANDARD
BEGIN:DAYLIGHT
TZNAME:CDT
DTSTART:20180311T020000
TZOFFSETFROM:-0600
TZOFFSETTO:-0500
RDATE:20190310T020000
RDATE:20200308T020000
END:DAYLIGHT
END:VTIMEZONE
BEGIN:VEVENT
UID:02623909-078f-49a9-bce6-8d4feba4db25
DTSTAMP:20260424T101337Z
DESCRIPTION:The EYE RUN is an eye health awareness event and fundraiser\, s
 cheduled for Sunday\, October 7\, at Holmes Lake Park in Lincoln\, Nebrask
 a\, and many other locations through virtual runners and walkers.\n\nThe E
 YE RUN offers three events: One Miler Run/Walk\, 5K Run/Walk\, and 10K Run
 . In addition to the run/walk\, the EYE RUN hosts the Healthy Lifestyle Ex
 po\, with booths from sponsors and area agencies that offer supportive ser
 vices to people who are blind.\n\nBusinesses are encouraged to use the EYE
  RUN to enhance corporate wellness programs\, with group pricing for teams
  of 10 or more available by request. For corporate sponsorship or team opp
 ortunities\, call (402) 488-0981\, Option 3.\n\nRegistration is free for l
 egally blind runners and walkers and their sighted guides. Email info@chri
 stianrecord.org to request your comp code. \n\nProceeds from the EYE RUN p
 rovide reading services and confidence-building camping experiences for pe
 ople who are blind through Christian Record and National Camps for Blind C
 hildren.\n\nRegistration is open through event day.
DTSTART;TZID=America/Chicago:20181007T100000
DTEND;TZID=America/Chicago:20181007T120000
LOCATION:Holmes Lake\, Lincoln\, Nebraska
SUMMARY:EYE RUN
END:VEVENT
END:VCALENDAR
