BEGIN:VCALENDAR
VERSION:2.0
PRODID:-//christianrecord.org//NONSGML kigkonsult.se iCalcreator 2.30.10//
CALSCALE:GREGORIAN
METHOD:PUBLISH
UID:a425586a-0996-43ca-bc1f-c85e7b2b315a
X-WR-CALDESC:
X-WR-RELCALID:e637d643515d5aab8505094eda04f5f8
X-WR-TIMEZONE:America/Chicago
BEGIN:VTIMEZONE
TZID:America/Chicago
BEGIN:STANDARD
TZNAME:CST
DTSTART:20171105T020000
TZOFFSETFROM:-0500
TZOFFSETTO:-0600
RDATE:20181104T020000
END:STANDARD
BEGIN:DAYLIGHT
TZNAME:CDT
DTSTART:20180311T020000
TZOFFSETFROM:-0600
TZOFFSETTO:-0500
RDATE:20190310T020000
END:DAYLIGHT
END:VTIMEZONE
BEGIN:VEVENT
UID:c636ea33-d3b3-4852-a98c-f408ab3c0067
DTSTAMP:20260424T193606Z
DESCRIPTION:
DTSTART;TZID=America/Chicago:20180415T000000
DTEND;TZID=America/Chicago:20180415T235900
LOCATION:
SUMMARY:DEADLINE: Anne Lowe Scholarship
END:VEVENT
END:VCALENDAR
