BEGIN:VCALENDAR
VERSION:2.0
PRODID:-//christianrecord.org//NONSGML kigkonsult.se iCalcreator 2.30.10//
CALSCALE:GREGORIAN
METHOD:PUBLISH
UID:bb599371-b50d-488f-ad8e-dfebd9570b4a
X-WR-CALDESC:
X-WR-RELCALID:df4ea68323fbb192be5b82f64262ceba
X-WR-TIMEZONE:America/Chicago
BEGIN:VTIMEZONE
TZID:America/Chicago
BEGIN:STANDARD
TZNAME:CST
DTSTART:20171105T020000
TZOFFSETFROM:-0500
TZOFFSETTO:-0600
RDATE:20181104T020000
END:STANDARD
BEGIN:DAYLIGHT
TZNAME:CDT
DTSTART:20170312T020000
TZOFFSETFROM:-0600
TZOFFSETTO:-0500
RDATE:20180311T020000
RDATE:20190310T020000
END:DAYLIGHT
END:VTIMEZONE
BEGIN:VEVENT
UID:32551255-d446-466e-8f4e-0a297995298b
DTSTAMP:20260425T010837Z
DESCRIPTION:
DTSTART;TZID=America/Chicago:20171214T130000
DTEND;TZID=America/Chicago:20171214T170000
LOCATION:Christian Record Headquarters\, 5900 S 58th St\, Ste M
SUMMARY:Christmas Open House
END:VEVENT
END:VCALENDAR
