BEGIN:VCALENDAR
VERSION:2.0
PRODID:-//christianrecord.org//NONSGML kigkonsult.se iCalcreator 2.30.10//
CALSCALE:GREGORIAN
METHOD:PUBLISH
UID:790ad7c8-0e79-4848-9dce-fb3c95430721
X-WR-CALDESC:
X-WR-RELCALID:7d045f7ddd02ee54b47aa74b78813aef
X-WR-TIMEZONE:America/Chicago
BEGIN:VTIMEZONE
TZID:America/Chicago
BEGIN:STANDARD
TZNAME:CST
DTSTART:20161106T020000
TZOFFSETFROM:-0500
TZOFFSETTO:-0600
RDATE:20171105T020000
RDATE:20181104T020000
END:STANDARD
BEGIN:DAYLIGHT
TZNAME:CDT
DTSTART:20170312T020000
TZOFFSETFROM:-0600
TZOFFSETTO:-0500
RDATE:20180311T020000
END:DAYLIGHT
END:VTIMEZONE
BEGIN:VEVENT
UID:692fe8b3-b33d-40f5-a0d8-82c17af8895d
DTSTAMP:20260425T102853Z
DESCRIPTION:
DTSTART;TZID=America/Chicago:20170625T000000
DTEND;TZID=America/Chicago:20170702T235900
LOCATION:
SUMMARY:NCBC at Camp Lawroweld
END:VEVENT
END:VCALENDAR
