BEGIN:VCALENDAR
VERSION:2.0
PRODID:-//christianrecord.org//NONSGML kigkonsult.se iCalcreator 2.30.10//
CALSCALE:GREGORIAN
METHOD:PUBLISH
UID:f7fc80b4-7fab-42c8-a6cb-37267c1b559d
X-WR-CALDESC:
X-WR-RELCALID:8839d06f585902fe5a5af6d578d6dd1e
X-WR-TIMEZONE:America/Chicago
BEGIN:VTIMEZONE
TZID:America/Chicago
BEGIN:STANDARD
TZNAME:CST
DTSTART:20161106T020000
TZOFFSETFROM:-0500
TZOFFSETTO:-0600
RDATE:20171105T020000
RDATE:20181104T020000
END:STANDARD
BEGIN:DAYLIGHT
TZNAME:CDT
DTSTART:20170312T020000
TZOFFSETFROM:-0600
TZOFFSETTO:-0500
RDATE:20180311T020000
END:DAYLIGHT
END:VTIMEZONE
BEGIN:VEVENT
UID:937b14d9-4e93-4e88-8e97-6963bd3f5dde
DTSTAMP:20260425T103116Z
DESCRIPTION:
DTSTART;TZID=America/Chicago:20170618T000000
DTEND;TZID=America/Chicago:20170625T235900
LOCATION:
SUMMARY:NCBC at Timber Ridge Camp
END:VEVENT
END:VCALENDAR
