BEGIN:VCALENDAR
VERSION:2.0
PRODID:-//christianrecord.org//NONSGML kigkonsult.se iCalcreator 2.30.10//
CALSCALE:GREGORIAN
METHOD:PUBLISH
UID:86bb4914-ca74-4261-9855-2bea4e7cb23b
X-WR-CALDESC:For more information about the World Budget offering\, emphasi
 s Christian Record Services\, Inc.\, visit the donate area of this site.
X-WR-RELCALID:c7014902a366c35e645e6dfcbae28cf0
X-WR-TIMEZONE:America/Chicago
BEGIN:VTIMEZONE
TZID:America/Chicago
BEGIN:STANDARD
TZNAME:CST
DTSTART:20161106T020000
TZOFFSETFROM:-0500
TZOFFSETTO:-0600
RDATE:20171105T020000
END:STANDARD
BEGIN:DAYLIGHT
TZNAME:CDT
DTSTART:20170312T020000
TZOFFSETFROM:-0600
TZOFFSETTO:-0500
RDATE:20180311T020000
END:DAYLIGHT
END:VTIMEZONE
BEGIN:VEVENT
UID:acf10ad5-f8d5-4c32-9a62-753da12dc154
DTSTAMP:20260425T133846Z
DESCRIPTION:For more information about the World Budget offering\, emphasis
  Christian Record Services\, Inc.\, visit the donate area of this site.
DTSTART;TZID=America/Chicago:20170408T000000
DTEND;TZID=America/Chicago:20170408T235900
LOCATION:
SUMMARY:World Budget Offering\, Emphasis Christian Record Services\, Inc. (
 aka Christian Record Annual Day of Giving)
END:VEVENT
END:VCALENDAR
