BEGIN:VCALENDAR
VERSION:2.0
PRODID:-//christianrecord.org//NONSGML kigkonsult.se iCalcreator 2.30.10//
CALSCALE:GREGORIAN
METHOD:PUBLISH
UID:32092a27-fbd8-479a-8d4a-5fd72ca398eb
X-WR-CALDESC:Christian Record Services\, Inc. is excited to announce that w
 inter blind camp will be at Camp Au Sable in Grayling\, Michigan\, Februar
 y 5-10\, 2017. This camp is for people\, ages 9-65\, who are blind or lega
 lly blind\, defined as 20/200 vision with corrective lenses. \n\nTo learn 
 more and to register\, contact Diana Bruch at 517-316-1500\, or email dbru
 ch@misda.org. Space is limited.
X-WR-RELCALID:99cbabda081ce08006240facf0a570bc
X-WR-TIMEZONE:America/Chicago
BEGIN:VTIMEZONE
TZID:America/Chicago
BEGIN:STANDARD
TZNAME:CST
DTSTART:20161106T020000
TZOFFSETFROM:-0500
TZOFFSETTO:-0600
RDATE:20171105T020000
END:STANDARD
BEGIN:DAYLIGHT
TZNAME:CDT
DTSTART:20160313T020000
TZOFFSETFROM:-0600
TZOFFSETTO:-0500
RDATE:20170312T020000
RDATE:20180311T020000
END:DAYLIGHT
END:VTIMEZONE
BEGIN:VEVENT
UID:87606d65-e38e-4b8a-9f86-f792e9145a67
DTSTAMP:20260425T165627Z
DESCRIPTION:Christian Record Services\, Inc. is excited to announce that wi
 nter blind camp will be at Camp Au Sable in Grayling\, Michigan\, February
  5-10\, 2017. This camp is for people\, ages 9-65\, who are blind or legal
 ly blind\, defined as 20/200 vision with corrective lenses. \n\nTo learn m
 ore and to register\, contact Diana Bruch at 517-316-1500\, or email dbruc
 h@misda.org. Space is limited.
DTSTART;TZID=America/Chicago:20170205T000000
DTEND;TZID=America/Chicago:20170210T235900
LOCATION:Camp Au Sable
SUMMARY:Winter Blind Camp
END:VEVENT
END:VCALENDAR
