BEGIN:VCALENDAR
VERSION:2.0
PRODID:-//christianrecord.org//NONSGML kigkonsult.se iCalcreator 2.30.10//
CALSCALE:GREGORIAN
METHOD:PUBLISH
UID:803f65df-4087-4331-951b-1ba9a2dca2d1
X-WR-CALDESC:The fourth annual EYE RUN will be held Sunday\, October 2 at H
 olmes Lake Park in Lincoln\, Nebraska.  Early bird registration is open no
 w at www.EYERUN.info.\n\nThe EYE RUN is a fundraiser and eye health educat
 ion event that encourages you to walk or run with family and friends.  Enj
 oy our best early bird pricing when you assemble a team of 4 to 9 individu
 als. But don't wait--early bird pricing is available through Thursday\, Se
 ptember 1.\n\nVIRTUAL PARTICIPATION OPTION\nDon't live in Lincoln? Registe
 r to walk or run on your own or with a team in your local area as EYE RUN 
 virtual participants. Encourage friends\, family\, and church members to p
 articipate with you on Sunday\, October 2.\n\nFREE REGISTRATION FOR PEOPLE
  WHO ARE BLIND AND THEIR GUIDES\nIndividuals who are blind and their sight
 ed guides are eligible to receive complimentary registration. Contact EYE 
 RUN coordinator Jeri Lyn Rogge for more information at 402-488-0981\, exte
 nsion 213. \n\nMOTIVATE TO MOVE FOR EYE HEALTH\nChurch health ministries l
 eaders: Consider using the EYE RUN as a way to connect your ministry effor
 ts with individuals from your community. \nLearn more and register today a
 t www.EYERUN.info.
X-WR-RELCALID:e6e30598a306c0238502c976f7410f57
X-WR-TIMEZONE:America/Chicago
BEGIN:VTIMEZONE
TZID:America/Chicago
BEGIN:STANDARD
TZNAME:CST
DTSTART:20151101T020000
TZOFFSETFROM:-0500
TZOFFSETTO:-0600
RDATE:20161106T020000
RDATE:20171105T020000
END:STANDARD
BEGIN:DAYLIGHT
TZNAME:CDT
DTSTART:20160313T020000
TZOFFSETFROM:-0600
TZOFFSETTO:-0500
RDATE:20170312T020000
RDATE:20180311T020000
END:DAYLIGHT
END:VTIMEZONE
BEGIN:VEVENT
UID:d241df0e-00fa-4425-80ee-39e00c950bca
DTSTAMP:20260425T232913Z
DESCRIPTION:The fourth annual EYE RUN will be held Sunday\, October 2 at Ho
 lmes Lake Park in Lincoln\, Nebraska.  Early bird registration is open now
  at www.EYERUN.info.\n\nThe EYE RUN is a fundraiser and eye health educati
 on event that encourages you to walk or run with family and friends.  Enjo
 y our best early bird pricing when you assemble a team of 4 to 9 individua
 ls. But don't wait--early bird pricing is available through Thursday\, Sep
 tember 1.\n\nVIRTUAL PARTICIPATION OPTION\nDon't live in Lincoln? Register
  to walk or run on your own or with a team in your local area as EYE RUN v
 irtual participants. Encourage friends\, family\, and church members to pa
 rticipate with you on Sunday\, October 2.\n\nFREE REGISTRATION FOR PEOPLE 
 WHO ARE BLIND AND THEIR GUIDES\nIndividuals who are blind and their sighte
 d guides are eligible to receive complimentary registration. Contact EYE R
 UN coordinator Jeri Lyn Rogge for more information at 402-488-0981\, exten
 sion 213. \n\nMOTIVATE TO MOVE FOR EYE HEALTH\nChurch health ministries le
 aders: Consider using the EYE RUN as a way to connect your ministry effort
 s with individuals from your community. \nLearn more and register today at
  www.EYERUN.info.
DTSTART;TZID=America/Chicago:20161002T120000
DTEND;TZID=America/Chicago:20161002T150000
LOCATION:Holmes Lake Park\, Lincoln and VIRTUAL
SUMMARY:EYE RUN
END:VEVENT
END:VCALENDAR
